<?xml version="1.0" encoding="UTF-8" standalone="no"?>
<metadata xml:lang="en">
<Esri>
<CreaDate>20190620</CreaDate>
<CreaTime>15374500</CreaTime>
<ArcGISFormat>1.0</ArcGISFormat>
<ArcGISstyle>FGDC CSDGM Metadata</ArcGISstyle>
<SyncOnce>FALSE</SyncOnce>
<DataProperties>
<itemProps>
<itemName Sync="TRUE">RAST_NW_DEM.img</itemName>
<imsContentType Sync="TRUE">002</imsContentType>
<nativeExtBox>
<westBL Sync="TRUE">296225.991252</westBL>
<eastBL Sync="TRUE">605329.991252</eastBL>
<southBL Sync="TRUE">548191.984503</southBL>
<northBL Sync="TRUE">920205.984503</northBL>
<exTypeCode Sync="TRUE">1</exTypeCode>
</nativeExtBox>
</itemProps>
<coordRef>
<type Sync="TRUE">Projected</type>
<geogcsn Sync="TRUE">GCS_NAD_1983_2011</geogcsn>
<csUnits Sync="TRUE">Linear Unit: Foot_US (0.304801)</csUnits>
<projcsn Sync="TRUE">NAD_1983_2011_StatePlane_New_Jersey_FIPS_2900_Ft_US</projcsn>
<peXml Sync="TRUE">&lt;ProjectedCoordinateSystem xsi:type='typens:ProjectedCoordinateSystem' xmlns:xsi='http://www.w3.org/2001/XMLSchema-instance' xmlns:xs='http://www.w3.org/2001/XMLSchema' xmlns:typens='http://www.esri.com/schemas/ArcGIS/10.5'&gt;&lt;WKT&gt;PROJCS[&amp;quot;NAD_1983_2011_StatePlane_New_Jersey_FIPS_2900_Ft_US&amp;quot;,GEOGCS[&amp;quot;GCS_NAD_1983_2011&amp;quot;,DATUM[&amp;quot;D_NAD_1983_2011&amp;quot;,SPHEROID[&amp;quot;GRS_1980&amp;quot;,6378137.0,298.257222101]],PRIMEM[&amp;quot;Greenwich&amp;quot;,0.0],UNIT[&amp;quot;Degree&amp;quot;,0.0174532925199433]],PROJECTION[&amp;quot;Transverse_Mercator&amp;quot;],PARAMETER[&amp;quot;False_Easting&amp;quot;,492125.0],PARAMETER[&amp;quot;False_Northing&amp;quot;,0.0],PARAMETER[&amp;quot;Central_Meridian&amp;quot;,-74.5],PARAMETER[&amp;quot;Scale_Factor&amp;quot;,0.9999],PARAMETER[&amp;quot;Latitude_Of_Origin&amp;quot;,38.83333333333334],UNIT[&amp;quot;Foot_US&amp;quot;,0.3048006096012192]],VERTCS[&amp;quot;NAVD88 height - Geoid12B (feet)&amp;quot;,VDATUM[&amp;quot;North_American_Vertical_Datum_1988&amp;quot;],PARAMETER[&amp;quot;Vertical_Shift&amp;quot;,0.0],PARAMETER[&amp;quot;Direction&amp;quot;,1.0],UNIT[&amp;quot;Foot_US&amp;quot;,0.3048006096012192]]&lt;/WKT&gt;&lt;XOrigin&gt;-17954600&lt;/XOrigin&gt;&lt;YOrigin&gt;-46918100&lt;/YOrigin&gt;&lt;XYScale&gt;137255069.87923574&lt;/XYScale&gt;&lt;ZOrigin&gt;-100000&lt;/ZOrigin&gt;&lt;ZScale&gt;10000&lt;/ZScale&gt;&lt;MOrigin&gt;-100000&lt;/MOrigin&gt;&lt;MScale&gt;10000&lt;/MScale&gt;&lt;XYTolerance&gt;0.0032808333333333331&lt;/XYTolerance&gt;&lt;ZTolerance&gt;0.001&lt;/ZTolerance&gt;&lt;MTolerance&gt;0.001&lt;/MTolerance&gt;&lt;HighPrecision&gt;true&lt;/HighPrecision&gt;&lt;WKID&gt;103106&lt;/WKID&gt;&lt;LatestWKID&gt;6527&lt;/LatestWKID&gt;&lt;/ProjectedCoordinateSystem&gt;</peXml>
</coordRef>
<RasterProperties>
<General>
<PixelDepth Sync="TRUE">32</PixelDepth>
<HasColormap Sync="TRUE">FALSE</HasColormap>
<CompressionType Sync="TRUE">None</CompressionType>
<NumBands Sync="TRUE">1</NumBands>
<Format Sync="TRUE">IMAGINE Image</Format>
<HasPyramids Sync="TRUE">TRUE</HasPyramids>
<SourceType Sync="TRUE">continuous</SourceType>
<PixelType Sync="TRUE">floating point</PixelType>
<NoDataValue Sync="TRUE">-3.4028235e+038</NoDataValue>
</General>
</RasterProperties>
</DataProperties>
<SyncDate>20190808</SyncDate>
<SyncTime>14070300</SyncTime>
<ModDate>20190808</ModDate>
<ModTime>14070300</ModTime>
</Esri>
<mdLang>
<languageCode value="eng">
</languageCode>
<countryCode Sync="TRUE" value="USA">
</countryCode>
</mdLang>
<mdChar>
<CharSetCd value="004">
</CharSetCd>
</mdChar>
<mdHrLv>
<ScopeCd value="005">
</ScopeCd>
</mdHrLv>
<mdContact>
<rpOrgName>Sanborn Map Company, Inc.</rpOrgName>
<rpCntInfo>
<cntPhone>
<voiceNum>(866)726-2676</voiceNum>
</cntPhone>
<cntAddress addressType="both">
<delPoint>Suite 100</delPoint>
<delPoint>1935 Jamboree Drive</delPoint>
<city>Colorado Springs</city>
<adminArea>CO</adminArea>
<postCode>80920</postCode>
<country>US</country>
</cntAddress>
</rpCntInfo>
<role>
<RoleCd value="007">
</RoleCd>
</role>
</mdContact>
<mdDateSt>20190102</mdDateSt>
<mdStanName>ArcGIS Metadata</mdStanName>
<mdStanVer>1.0</mdStanVer>
<dataIdInfo>
<idCitation>
<resTitle>New Jersey 6 County; Hydro-flattened Bare Earth DEM</resTitle>
<date>
<pubDate>2019-01-02</pubDate>
</date>
<citRespParty>
<rpOrgName>The Sanborn Map Company, Inc.</rpOrgName>
<role>
<RoleCd value="006">
</RoleCd>
</role>
</citRespParty>
<presForm>
<PresFormCd value="005">
</PresFormCd>
</presForm>
<presForm>
<fgdcGeoform>raster digital data</fgdcGeoform>
</presForm>
</idCitation>
<idAbs>Product: Bare earth Digital Elevation Model (DEM) data. Geographic Extent: 6 counties, New Jersey, covering approximately 2,358 square miles. Dataset Description: Sussex, Passaic, Warren, Morris, Hunterdon, Somerset county, New Jersey 2018 Lidar project called for the Planning, Acquisition, processing and derivative products of lidar data to be collected at a nominal pulse spacing (NPS) of 0.7 meter. Project specifications are based on the U.S. Geological Survey National Geospatial Program Base Lidar Specification, Version 1.3. The data was developed based on a horizontal projection/datum of NAD83 (2011), State Plane New Jersey, feet and vertical datum of NAVD88 (GEOID12B), feet. Lidar data was delivered as processed Classified LASv1.4 files, formatted to 2,843 individual 5,000 ft x 5,000 ft tiles, as tiled intensity imagery, and as tiled bare-earth DEMs; all tiled to the same 5,000 ft x 5,000 ft schema. Ground Conditions: Lidar was collected in early 2017 and 2018, while no snow was on the ground and rivers were at or below normal levels. In order to post process the lidar data to meet task order specifications and meet ASPRS vertical accuracy guidelines, The Sanborn Map Company, Inc. established a total of 30 ground control points that were used to calibrate the lidar to known ground locations established throughout the project area. An additional 140 independent accuracy check points, 79 in Open Terrain/Bare-Earth and Urban landcovers (79 NVA points), 61 in Grass, Brush and Trees categories (61 VVA points), were used to assess the vertical accuracy of the data. These check points were not used to calibrate or post process the data.</idAbs>
<idPurp>To acquire detailed surface elevation data for use in conservation planning, design, research, floodplain mapping, dam safety assessments and elevation...</idPurp>
<idStatus>
<ProgCd value="001">
</ProgCd>
</idStatus>
<resMaint>
<maintFreq>
<MaintFreqCd value="011">
</MaintFreqCd>
</maintFreq>
</resMaint>
<placeKeys>
<keyword>Passaic County</keyword>
<keyword>Morris County</keyword>
<keyword>Hunderton County</keyword>
<keyword>Somerset County</keyword>
<keyword>Warren County</keyword>
<keyword>New Jersey</keyword>
<keyword>Sussex County</keyword>
</placeKeys>
<themeKeys>
<keyword>Lidar</keyword>
<keyword>Remote Sensing</keyword>
<keyword>Raster</keyword>
<keyword>Model</keyword>
<keyword>DEM</keyword>
<keyword>Elevation Data</keyword>
</themeKeys>
<searchKeys>
<keyword>Lidar</keyword>
<keyword>Remote Sensing</keyword>
<keyword>Passaic County</keyword>
<keyword>Morris County</keyword>
<keyword>Hunderton County</keyword>
<keyword>Raster</keyword>
<keyword>Somerset County</keyword>
<keyword>Model</keyword>
<keyword>Warren County</keyword>
<keyword>DEM</keyword>
<keyword>Elevation Data</keyword>
<keyword>New Jersey</keyword>
<keyword>Sussex County</keyword>
</searchKeys>
<resConst>
<LegConsts>
<othConsts>No restrictions apply to these data.</othConsts>
</LegConsts>
</resConst>
<resConst>
<Consts>
<useLimit>None. However, users should be aware that temporal changes may have occurred since this dataset was collected and that some parts of these data may no longer represent actual surface conditions. Users should not use these data for critical applications without a full awareness of its limitations. Acknowledgement of the U.S. Geological Survey would be appreciated for products derived from these data.</useLimit>
</Consts>
</resConst>
<dataLang>
<languageCode value="eng">
</languageCode>
<countryCode Sync="TRUE" value="USA">
</countryCode>
</dataLang>
<tpCat>
<TopicCatCd value="006">
</TopicCatCd>
</tpCat>
<dataExt>
<geoEle>
<GeoBndBox>
<westBL>-75.2064717766</westBL>
<eastBL>-74.0891615268</eastBL>
<southBL>40.337625708</southBL>
<northBL>41.3594282505</northBL>
</GeoBndBox>
</geoEle>
</dataExt>
<dataExt>
<exDesc>ground condition</exDesc>
<tempEle>
<TempExtent>
<exTemp>
<TM_Period>
<tmBegin>2017-04-15</tmBegin>
<tmEnd>2019-01-02</tmEnd>
</TM_Period>
</exTemp>
</TempExtent>
</tempEle>
<geoEle>
</geoEle>
</dataExt>
<suppInfo>Raster File Type = IMG Bit Depth/Pixel Type = 32-bit float Raster Cell Size = 2 feet Interpolation or Resampling Technique = Triangulated Irregular Network Required Vertical Accuracy = 19.6 cm NVA</suppInfo>
<envirDesc Sync="TRUE"> Version 6.2 (Build 9200) ; Esri ArcGIS 10.5.1.7333</envirDesc>
<spatRpType>
<SpatRepTypCd Sync="TRUE" value="002">
</SpatRepTypCd>
</spatRpType>
<dataExt>
<geoEle>
<GeoBndBox esriExtentType="search">
<exTypeCode Sync="TRUE">1</exTypeCode>
<westBL Sync="TRUE">-75.213630</westBL>
<eastBL Sync="TRUE">-74.087601</eastBL>
<northBL Sync="TRUE">41.359596</northBL>
<southBL Sync="TRUE">40.336296</southBL>
</GeoBndBox>
</geoEle>
</dataExt>
<idCredit/>
</dataIdInfo>
<dqInfo>
<dqScope>
<scpLvl>
<ScopeCd value="005">
</ScopeCd>
</scpLvl>
</dqScope>
<report type="DQConcConsis">
<measDesc>Data covers the AOI specified for this project.</measDesc>
</report>
<report type="DQCompOm">
<measDesc>Datasets contain complete coverage of tiles. No points have been removed or excluded. A visual qualitative assessment was performed to ensure data completeness. There are no void areas or missing data. The raw point cloud is of good quality and data passes Non-Vegetated Vertical Accuracy specifications.</measDesc>
</report>
<report dimension="vertical" type="DQAbsExtPosAcc">
<measDesc>The project specifications require the accuracy (ACCz) of the derived DEM be calculated and reported in two ways: 1. The required NVA is: 19.6 cm at a 95% confidence level, derived according to NSSDA, i.e., based on RMSE of 10 cm in the "bare earth" and "urban" land cover classes. This is a required accuracy. The NVA was tested with 79 check points located in bare earth and urban (non-vegetated) areas. 2. Vegetated Vertical Accuracy (VVA): VVA shall be reported for "brushlands/low trees" and "tall weeds/crops" land cover classes. The target VVA is: 29.4 cm at the 95th percentile, derived according to ASPRS Guidelines, Vertical Accuracy Reporting for Lidar Data, i.e., based on the 95th percentile error in all vegetated land cover classes combined. This is a target accuracy. The VVA was tested with 61 check points located in tall weeds/crops and brushlands/low trees (vegetated) areas. The check points were distributed throughout the project area and were surveyed using GPS techniques. See survey report for additional survey methodologies. AccuracyZ has been tested to meet 19.6 cm or better Non-Vegetated Vertical Accuracy at 95% confidence level using RMSE(z) x 1.9600 as defined by the National Standards for Spatial Data Accuracy (NSSDA); assessed and reported using National Digital Elevation Program (NDEP)/ASRPS Guidelines.</measDesc>
<evalMethDesc>Tested 0.503 feet NVA at a 95% confidence level using RMSE(z) x 1.9600 as defined by the National Standards for Spatial Data Accuracy (NSSDA). The NVA of the DEM was calculated using 79 independent check points located in the Bare Earth and Urban land cover categories.</evalMethDesc>
<measResult>
<QuanResult>
<quanVal>0.503</quanVal>
</QuanResult>
</measResult>
</report>
<dataLineage>
<prcStep>
<stepDesc>Hydro Flattened Raster DEM Process: Class 2 (ground) lidar points in conjunction with the hydro breaklines were used to create a 2 foot hydro-flattened Raster DEM. Using automated scripting routines within ArcMap, an ERDAS Imagine IMG file was created for each tile. Each surface is reviewed using Global Mapper to check for any surface anomalies or incorrect elevations found within the surface.</stepDesc>
<stepDateTm>2019-01-02</stepDateTm>
</prcStep>
</dataLineage>
</dqInfo>
<spatRepInfo>
<Georect>
<numDims>2</numDims>
<axisDimension type="001">
<dimSize>2500</dimSize>
<dimResol>
<value Sync="TRUE" uom="ftUS">2.000000</value>
</dimResol>
</axisDimension>
<axisDimension type="002">
<dimSize>2500</dimSize>
<dimResol>
<value Sync="TRUE" uom="ftUS">2.000000</value>
</dimResol>
</axisDimension>
<cellGeo>
<CellGeoCd Sync="TRUE" value="002">
</CellGeoCd>
</cellGeo>
<tranParaAv Sync="TRUE">1</tranParaAv>
<chkPtAv Sync="TRUE">0</chkPtAv>
<cornerPts>
<pos Sync="TRUE">296225.991252 548191.984503</pos>
</cornerPts>
<cornerPts>
<pos Sync="TRUE">296225.991252 920205.984503</pos>
</cornerPts>
<cornerPts>
<pos Sync="TRUE">605329.991252 920205.984503</pos>
</cornerPts>
<cornerPts>
<pos Sync="TRUE">605329.991252 548191.984503</pos>
</cornerPts>
<centerPt>
<pos Sync="TRUE">450777.991252 734198.984503</pos>
</centerPt>
<ptInPixel>
<PixOrientCd Sync="TRUE" value="001">
</PixOrientCd>
</ptInPixel>
</Georect>
</spatRepInfo>
<distInfo>
<distFormat>
<formatName Sync="TRUE">Raster Dataset</formatName>
</distFormat>
</distInfo>
<mdHrLvName Sync="TRUE">dataset</mdHrLvName>
<refSysInfo>
<RefSystem>
<refSysID>
<identCode Sync="TRUE" code="6527">
</identCode>
<idCodeSpace Sync="TRUE">EPSG</idCodeSpace>
<idVersion Sync="TRUE">8.2.10(10.3.1)</idVersion>
</refSysID>
</RefSystem>
</refSysInfo>
<contInfo>
<ImgDesc>
<contentTyp>
<ContentTypCd Sync="TRUE" value="001">
</ContentTypCd>
</contentTyp>
<covDim>
<Band>
<dimDescrp Sync="TRUE">Layer_1</dimDescrp>
<maxVal Sync="TRUE">1803.623047</maxVal>
<minVal Sync="TRUE">-69.373001</minVal>
<bitsPerVal Sync="TRUE">32</bitsPerVal>
<valUnit>
<UOM type="length">
</UOM>
</valUnit>
</Band>
</covDim>
</ImgDesc>
</contInfo>
</metadata>
