{
 "currentVersion": 11.5,
 "serviceDescription": "Product: Bare earth Digital Elevation Model (DEM) data. Geographic Extent: 6 counties, New Jersey, covering approximately 2,358 square miles. Dataset Description: Sussex, Passaic, Warren, Morris, Hunterdon, Somerset county, New Jersey 2018 Lidar project called for the Planning, Acquisition, processing and derivative products of lidar data to be collected at a nominal pulse spacing (NPS) of 0.7 meter. Project specifications are based on the U.S. Geological Survey National Geospatial Program Base Lidar Specification, Version 1.3. The data was developed based on a horizontal projection/datum of NAD83 (2011), State Plane New Jersey, feet and vertical datum of NAVD88 (GEOID12B), feet. Lidar data was delivered as processed Classified LASv1.4 files, formatted to 2,843 individual 5,000 ft x 5,000 ft tiles, as tiled intensity imagery, and as tiled bare-earth DEMs; all tiled to the same 5,000 ft x 5,000 ft schema. Ground Conditions: Lidar was collected in early 2017 and 2018, while no snow was on the ground and rivers were at or below normal levels. In order to post process the lidar data to meet task order specifications and meet ASPRS vertical accuracy guidelines, The Sanborn Map Company, Inc. established a total of 30 ground control points that were used to calibrate the lidar to known ground locations established throughout the project area. An additional 140 independent accuracy check points, 79 in Open Terrain/Bare-Earth and Urban landcovers (79 NVA points), 61 in Grass, Brush and Trees categories (61 VVA points), were used to assess the vertical accuracy of the data. These check points were not used to calibrate or post process the data.",
 "name": "Elevation/NW_DEM",
 "description": "Product: Bare earth Digital Elevation Model (DEM) data. Geographic Extent: 6 counties, New Jersey, covering approximately 2,358 square miles. Dataset Description: Sussex, Passaic, Warren, Morris, Hunterdon, Somerset county, New Jersey 2018 Lidar project called for the Planning, Acquisition, processing and derivative products of lidar data to be collected at a nominal pulse spacing (NPS) of 0.7 meter. Project specifications are based on the U.S. Geological Survey National Geospatial Program Base Lidar Specification, Version 1.3. The data was developed based on a horizontal projection/datum of NAD83 (2011), State Plane New Jersey, feet and vertical datum of NAVD88 (GEOID12B), feet. Lidar data was delivered as processed Classified LASv1.4 files, formatted to 2,843 individual 5,000 ft x 5,000 ft tiles, as tiled intensity imagery, and as tiled bare-earth DEMs; all tiled to the same 5,000 ft x 5,000 ft schema. Ground Conditions: Lidar was collected in early 2017 and 2018, while no snow was on the ground and rivers were at or below normal levels. In order to post process the lidar data to meet task order specifications and meet ASPRS vertical accuracy guidelines, The Sanborn Map Company, Inc. established a total of 30 ground control points that were used to calibrate the lidar to known ground locations established throughout the project area. An additional 140 independent accuracy check points, 79 in Open Terrain/Bare-Earth and Urban landcovers (79 NVA points), 61 in Grass, Brush and Trees categories (61 VVA points), were used to assess the vertical accuracy of the data. These check points were not used to calibrate or post process the data.",
 "extent": {
  "xmin": 296225.99125227577,
  "ymin": 548191.9845033827,
  "xmax": 605329.9912522756,
  "ymax": 920205.9845033825,
  "spatialReference": {
   "wkid": 103106,
   "latestWkid": 6527,
   "vcsWkid": 105703,
   "latestVcsWkid": 6360
  }
 },
 "initialExtent": {
  "xmin": 296225.99125227577,
  "ymin": 548191.9845033827,
  "xmax": 605329.9912522756,
  "ymax": 920205.9845033825,
  "spatialReference": {
   "wkid": 103106,
   "latestWkid": 6527,
   "vcsWkid": 105703,
   "latestVcsWkid": 6360
  }
 },
 "fullExtent": {
  "xmin": 296225.99125227577,
  "ymin": 548191.9845033827,
  "xmax": 605329.9912522756,
  "ymax": 920205.9845033825,
  "spatialReference": {
   "wkid": 103106,
   "latestWkid": 6527,
   "vcsWkid": 105703,
   "latestVcsWkid": 6360
  }
 },
 "sortableFields": "",
 "heightModelInfo": {
  "heightModel": "gravity_related_height",
  "vertCRS": "NAVD88_height_(ftUS)",
  "heightUnit": "us-foot"
 },
 "bandCount": 1,
 "pixelType": "F32",
 "minValues": [
  -69.373001098633
 ],
 "maxValues": [
  1803.623046875
 ],
 "meanValues": [
  559.24395459361
 ],
 "stdvValues": [
  319.29144975096
 ],
 "serviceProperties": "Center<\/MosaicMethod>First<\/MosaicOperator>true<\/SortAscending><\/LockImageID><\/TileOrderField>0<\/TileOrderBase>0.000000<\/AvgImageSpacingX>0.000000<\/AvgImageSpacingY>0.0<\/ViewPointX>0.0<\/ViewPointY>0.0<\/ViewPointDefShiftX>0.0<\/ViewPointDefShiftY>None<\/CompressionMethod>75<\/CompressionQuality>0.010000<\/CompressionTolerance>Bilinear<\/SamplingMethod><\/ImageServiceProperties><\/ImageServer>",
 "allowedFields": "",
 "hasMultidimensions": false,
 "pixelSizeX": 1.9999999999999993,
 "pixelSizeY": 1.9999999999999987,
 "meanPixelSize": 0.6096012192024383,
 "datasetFormat": "IMAGINE Image",
 "uncompressedSize": 114991015456,
 "blockWidth": 64,
 "blockHeight": 64,
 "compressionType": "None",
 "bandNames": [
  "Layer_1"
 ],
 "allowCopy": true,
 "allowAnalysis": true,
 "itemAccess": false,
 "inspectionCapabilities": "",
 "noDataValue": -3.4028234663852886E38,
 "noDataValues": [
  -3.4028234663852886E38
 ],
 "minPixelSize": 0,
 "maxPixelSize": 0,
 "copyrightText": "",
 "serviceDataType": "esriImageServiceDataTypeGeneric",
 "serviceSourceType": "esriImageServiceSourceTypeDataset",
 "objectIdField": "",
 "fields": [],
 "capabilities": "Mensuration,Image,Metadata",
 "defaultMosaicMethod": "Center",
 "allowedMosaicMethods": "",
 "sortField": "",
 "sortValue": null,
 "sortAscending": true,
 "mosaicOperator": "First",
 "defaultCompressionQuality": 75,
 "defaultResamplingMethod": "Bilinear",
 "maxImageHeight": 4100,
 "maxImageWidth": 15000,
 "allowRasterFunction": true,
 "rasterFunctionInfos": [
  {
   "name": "None",
   "description": "",
   "help": ""
  }
 ],
 "rasterTypeInfos": [
  {
   "name": "Raster Dataset",
   "description": "Supports all ArcGIS Raster Datasets",
   "help": ""
  }
 ],
 "mensurationCapabilities": "Basic",
 "hasHistograms": true,
 "hasColormap": false,
 "hasRasterAttributeTable": false,
 "minScale": 0,
 "maxScale": 0,
 "exportTilesAllowed": false,
 "supportsStatistics": false,
 "supportsAdvancedQueries": false,
 "editFieldsInfo": null,
 "ownershipBasedAccessControlForRasters": null,
 "allowComputeTiePoints": false,
 "useStandardizedQueries": true,
 "advancedQueryCapabilities": {
  "useStandardizedQueries": true,
  "supportsStatistics": false,
  "supportsOrderBy": false,
  "supportsDistinct": false,
  "supportsPagination": false
 },
 "spatialReference": {
  "wkid": 103106,
  "latestWkid": 6527,
  "vcsWkid": 105703,
  "latestVcsWkid": 6360
 },
 "resampling": false
}
