<?xml version="1.0" encoding="UTF-8" standalone="no"?>
<metadata xml:lang="en">
<Esri>
<CreaDate>20201022</CreaDate>
<CreaTime>14090400</CreaTime>
<ArcGISFormat>1.0</ArcGISFormat>
<ArcGISstyle>FGDC CSDGM Metadata</ArcGISstyle>
<SyncOnce>FALSE</SyncOnce>
<DataProperties>
<itemProps>
<itemName Sync="TRUE">Rast_SJ_DEM.img</itemName>
<nativeExtBox>
<westBL Sync="TRUE">189722.000000</westBL>
<eastBL Sync="TRUE">623544.000000</eastBL>
<southBL Sync="TRUE">34292.000000</southBL>
<northBL Sync="TRUE">488014.000000</northBL>
<exTypeCode Sync="TRUE">1</exTypeCode>
</nativeExtBox>
<imsContentType Sync="TRUE">002</imsContentType>
</itemProps>
<coordRef>
<type Sync="TRUE">Projected</type>
<geogcsn Sync="TRUE">GCS_NAD_1983_2011</geogcsn>
<csUnits Sync="TRUE">Linear Unit: Foot_US (0.304801)</csUnits>
<projcsn Sync="TRUE">NAD_1983_2011_StatePlane_New_Jersey_FIPS_2900_Ft_US</projcsn>
<peXml Sync="TRUE">&lt;ProjectedCoordinateSystem xsi:type='typens:ProjectedCoordinateSystem' xmlns:xsi='http://www.w3.org/2001/XMLSchema-instance' xmlns:xs='http://www.w3.org/2001/XMLSchema' xmlns:typens='http://www.esri.com/schemas/ArcGIS/10.7'&gt;&lt;WKT&gt;PROJCS[&amp;quot;NAD_1983_2011_StatePlane_New_Jersey_FIPS_2900_Ft_US&amp;quot;,GEOGCS[&amp;quot;GCS_NAD_1983_2011&amp;quot;,DATUM[&amp;quot;D_NAD_1983_2011&amp;quot;,SPHEROID[&amp;quot;GRS_1980&amp;quot;,6378137.0,298.257222101]],PRIMEM[&amp;quot;Greenwich&amp;quot;,0.0],UNIT[&amp;quot;Degree&amp;quot;,0.0174532925199433]],PROJECTION[&amp;quot;Transverse_Mercator&amp;quot;],PARAMETER[&amp;quot;False_Easting&amp;quot;,492125.0],PARAMETER[&amp;quot;False_Northing&amp;quot;,0.0],PARAMETER[&amp;quot;Central_Meridian&amp;quot;,-74.5],PARAMETER[&amp;quot;Scale_Factor&amp;quot;,0.9999],PARAMETER[&amp;quot;Latitude_Of_Origin&amp;quot;,38.83333333333334],UNIT[&amp;quot;Foot_US&amp;quot;,0.3048006096012192]],VERTCS[&amp;quot;NAVD88 height - Geoid12B (feet)&amp;quot;,VDATUM[&amp;quot;North_American_Vertical_Datum_1988&amp;quot;],PARAMETER[&amp;quot;Vertical_Shift&amp;quot;,0.0],PARAMETER[&amp;quot;Direction&amp;quot;,1.0],UNIT[&amp;quot;Foot_US&amp;quot;,0.3048006096012192]]&lt;/WKT&gt;&lt;XOrigin&gt;-17954600&lt;/XOrigin&gt;&lt;YOrigin&gt;-46918100&lt;/YOrigin&gt;&lt;XYScale&gt;137255069.87923574&lt;/XYScale&gt;&lt;ZOrigin&gt;-100000&lt;/ZOrigin&gt;&lt;ZScale&gt;10000&lt;/ZScale&gt;&lt;MOrigin&gt;-100000&lt;/MOrigin&gt;&lt;MScale&gt;10000&lt;/MScale&gt;&lt;XYTolerance&gt;0.0032808333333333331&lt;/XYTolerance&gt;&lt;ZTolerance&gt;0.001&lt;/ZTolerance&gt;&lt;MTolerance&gt;0.001&lt;/MTolerance&gt;&lt;HighPrecision&gt;true&lt;/HighPrecision&gt;&lt;WKID&gt;103106&lt;/WKID&gt;&lt;LatestWKID&gt;6527&lt;/LatestWKID&gt;&lt;/ProjectedCoordinateSystem&gt;</peXml>
</coordRef>
<RasterProperties>
<General>
<PixelDepth Sync="TRUE">32</PixelDepth>
<HasColormap Sync="TRUE">FALSE</HasColormap>
<CompressionType Sync="TRUE">None</CompressionType>
<NumBands Sync="TRUE">1</NumBands>
<Format Sync="TRUE">IMAGINE Image</Format>
<HasPyramids Sync="TRUE">TRUE</HasPyramids>
<SourceType Sync="TRUE">continuous</SourceType>
<PixelType Sync="TRUE">floating point</PixelType>
<NoDataValue Sync="TRUE">-3.4028235e+38</NoDataValue>
</General>
</RasterProperties>
</DataProperties>
<SyncDate>20201207</SyncDate>
<SyncTime>19160700</SyncTime>
<ModDate>20201207</ModDate>
<ModTime>19160700</ModTime>
<ArcGISProfile>FGDC</ArcGISProfile>
</Esri>
<mdLang>
<languageCode value="eng">
</languageCode>
<countryCode Sync="TRUE" value="USA">
</countryCode>
</mdLang>
<mdChar>
<CharSetCd value="004">
</CharSetCd>
</mdChar>
<mdHrLv>
<ScopeCd value="005">
</ScopeCd>
</mdHrLv>
<mdContact>
<rpOrgName>Sanborn Map Company, Inc.</rpOrgName>
<rpCntInfo>
<cntPhone>
<voiceNum>(866)726-2676</voiceNum>
</cntPhone>
<cntAddress addressType="both">
<delPoint>Suite 100</delPoint>
<delPoint>1935 Jamboree Drive</delPoint>
<city>Colorado Springs</city>
<adminArea>CO</adminArea>
<postCode>80920</postCode>
<country>US</country>
</cntAddress>
</rpCntInfo>
<role>
<RoleCd value="007">
</RoleCd>
</role>
</mdContact>
<mdDateSt Sync="TRUE">20201207</mdDateSt>
<mdStanName>ArcGIS Metadata</mdStanName>
<mdStanVer>1.0</mdStanVer>
<dataIdInfo>
<idCitation>
<resTitle Sync="TRUE">Rast_SJ_DEM.img</resTitle>
<date>
<pubDate>2020-01-18</pubDate>
</date>
<citRespParty>
<rpOrgName>Sanborn Map Company, Inc.</rpOrgName>
<role>
<RoleCd value="006">
</RoleCd>
</role>
</citRespParty>
<presForm>
<PresFormCd value="005">
</PresFormCd>
</presForm>
<presForm>
<fgdcGeoform>raster digital data</fgdcGeoform>
</presForm>
</idCitation>
<idAbs>Product: Bare earth Digital Elevation Model (DEM) data. Geographic Extent: Atlantic, Cape May, Cumberland, Ocean, Salem counties New Jersey, covering approximately 2,545 square miles. Dataset Description: USGS South NJ Lidar project called for the Planning, Acquisition, processing and derivative products of lidar data to be collected at a nominal pulse spacing (NPS) of 0.5 meter. Project specifications are based on the U.S. Geological Survey National Geospatial Program Base Lidar Specification, Version 1.3. The data was developed based on a horizontal projection/datum of NAD83 (2011), State Plane New Jersey, feet and vertical datum of NAVD88 (GEOID12B), feet. Lidar data was delivered as processed Classified LAS 1.4 files, formatted to 3,079 individual 5000 x 5000 foot tiles, as tiled Intensity Rasters, and as tiled bare earth DEMs; all tiled to 3,079 individual 5000 x 5000 foot schema. Ground Conditions: Lidar was collected in early 2019, while no snow was on the ground and rivers were at or below normal levels. In order to post process the lidar data to meet task order specifications and meet ASPRS vertical accuracy guidelines, Sanborn Map Company, Inc. established a total of 30 ground control points that were used to calibrate the lidar to known ground locations established throughout the project area. An additional 142 independent accuracy check points, 80 in Open Terrain/Bare-Earth and Urban landcovers (80 NVA points), 62 in Grass, Brush and Trees categories (62 VVA points), were used to assess the vertical accuracy of the data. These check points were not used to calibrate or post process the data.</idAbs>
<idPurp>To acquire detailed surface elevation data for use in conservation planning, design, research, floodplain mapping, dam safety assessments and elevation...</idPurp>
<idStatus>
<ProgCd value="001">
</ProgCd>
</idStatus>
<resMaint>
<maintFreq>
<MaintFreqCd value="011">
</MaintFreqCd>
</maintFreq>
</resMaint>
<placeKeys>
<keyword>New Jersey</keyword>
<keyword>Cumberland</keyword>
<keyword>Salem</keyword>
<keyword>Atlantic</keyword>
<keyword>Ocean</keyword>
<keyword>Cape May</keyword>
</placeKeys>
<themeKeys>
<keyword>Elevation Data</keyword>
<keyword>Model</keyword>
<keyword>Remote Sensing</keyword>
<keyword>Raster</keyword>
<keyword>DEM</keyword>
<keyword>Lidar</keyword>
</themeKeys>
<searchKeys>
<keyword>Elevation Data</keyword>
<keyword>Model</keyword>
<keyword>New Jersey</keyword>
<keyword>Cumberland</keyword>
<keyword>Remote Sensing</keyword>
<keyword>Salem</keyword>
<keyword>Atlantic</keyword>
<keyword>Raster</keyword>
<keyword>DEM</keyword>
<keyword>Lidar</keyword>
<keyword>Ocean</keyword>
<keyword>Cape May</keyword>
</searchKeys>
<resConst>
<LegConsts>
<othConsts>No restrictions apply to these data.</othConsts>
</LegConsts>
</resConst>
<resConst>
<Consts>
<useLimit>None. However, users should be aware that temporal changes may have occurred since this dataset was collected and that some parts of these data may no longer represent actual surface conditions. Users should not use these data for critical applications without a full awareness of its limitations. Acknowledgement of the U.S. Geological Survey would be appreciated for products derived from these data.</useLimit>
</Consts>
</resConst>
<dataLang>
<languageCode value="eng">
</languageCode>
<countryCode Sync="TRUE" value="USA">
</countryCode>
</dataLang>
<tpCat>
<TopicCatCd value="006">
</TopicCatCd>
</tpCat>
<dataExt>
<exDesc>ground condition</exDesc>
<tempEle>
<TempExtent>
<exTemp>
<TM_Period>
<tmBegin>2019-03-08</tmBegin>
<tmEnd>2019-04-23</tmEnd>
</TM_Period>
</exTemp>
</TempExtent>
</tempEle>
<geoEle>
</geoEle>
</dataExt>
<dataExt>
<geoEle>
<GeoBndBox>
<westBL>-75.5736209863</westBL>
<eastBL>-74.0301827626</eastBL>
<southBL>38.926721708</southBL>
<northBL>40.1731865495</northBL>
</GeoBndBox>
</geoEle>
</dataExt>
<suppInfo>Raster File Type = IMG Bit Depth/Pixel Type = 32-bit float Raster Cell Size = 2 Feet Interpolation or Resampling Technique = Triangulated Irregular Network Required Vertical Accuracy = 19.6 cm NVA</suppInfo>
<envirDesc Sync="TRUE"> Version 6.2 (Build 9200) ; Esri ArcGIS 10.7.1.11595</envirDesc>
<spatRpType>
<SpatRepTypCd Sync="TRUE" value="002">
</SpatRepTypCd>
</spatRpType>
<dataExt>
<geoEle>
<GeoBndBox esriExtentType="search">
<exTypeCode Sync="TRUE">1</exTypeCode>
<westBL Sync="TRUE">-75.582139</westBL>
<eastBL Sync="TRUE">-74.029689</eastBL>
<northBL Sync="TRUE">40.173227</northBL>
<southBL Sync="TRUE">38.922656</southBL>
</GeoBndBox>
</geoEle>
</dataExt>
<idCredit/>
</dataIdInfo>
<dqInfo>
<dqScope>
<scpLvl>
<ScopeCd value="005">
</ScopeCd>
</scpLvl>
</dqScope>
<report type="DQConcConsis">
<measDesc>Data covers the full area specified for this project.</measDesc>
</report>
<report type="DQCompOm">
<measDesc>Datasets contain complete coverage of tiles. No points have been removed or excluded. A visual qualitative assessment was performed to ensure data completeness. There are no void areas or missing data. The raw point cloud is of good quality and data passes Non-Vegetated Vertical Accuracy specifications.</measDesc>
</report>
<dataLineage>
<prcStep>
<stepDesc>Hydro-Flattened Bare Earth DEM Process: Class 2 (ground) and hydro-flattened breaklines were used to create a 2 foot Raster DEM. Using automated scripting routines within LP360, a IMG file was created for each tile. Each terrain is reviewed using Global Mapper to check for any surface anomalprocessing was compleies or incorrect elevations found within the surface.</stepDesc>
<stepDateTm>2020-01-18</stepDateTm>
</prcStep>
</dataLineage>
</dqInfo>
<spatRepInfo>
<Georect>
<numDims Sync="TRUE">2</numDims>
<axisDimension type="001">
<dimSize Sync="TRUE">226861</dimSize>
<dimResol>
<value Sync="TRUE" uom="ftUS">2.000000</value>
</dimResol>
</axisDimension>
<axisDimension type="002">
<dimSize Sync="TRUE">216911</dimSize>
<dimResol>
<value Sync="TRUE" uom="ftUS">2.000000</value>
</dimResol>
</axisDimension>
<cellGeo>
<CellGeoCd Sync="TRUE" value="002">
</CellGeoCd>
</cellGeo>
<tranParaAv Sync="TRUE">1</tranParaAv>
<chkPtAv Sync="TRUE">0</chkPtAv>
<cornerPts>
<pos Sync="TRUE">189722.000000 34292.000000</pos>
</cornerPts>
<cornerPts>
<pos Sync="TRUE">189722.000000 488014.000000</pos>
</cornerPts>
<cornerPts>
<pos Sync="TRUE">623544.000000 488014.000000</pos>
</cornerPts>
<cornerPts>
<pos Sync="TRUE">623544.000000 34292.000000</pos>
</cornerPts>
<centerPt>
<pos Sync="TRUE">406633.000000 261153.000000</pos>
</centerPt>
<ptInPixel>
<PixOrientCd Sync="TRUE" value="001">
</PixOrientCd>
</ptInPixel>
</Georect>
</spatRepInfo>
<distInfo>
<distFormat>
<formatName Sync="TRUE">Raster Dataset</formatName>
</distFormat>
</distInfo>
<mdHrLvName Sync="TRUE">dataset</mdHrLvName>
<refSysInfo>
<RefSystem>
<refSysID>
<identCode Sync="TRUE" code="6527">
</identCode>
<idCodeSpace Sync="TRUE">EPSG</idCodeSpace>
<idVersion Sync="TRUE">8.2.10(10.3.1)</idVersion>
</refSysID>
</RefSystem>
</refSysInfo>
<contInfo>
<ImgDesc>
<contentTyp>
<ContentTypCd Sync="TRUE" value="001">
</ContentTypCd>
</contentTyp>
<covDim>
<Band>
<dimDescrp Sync="TRUE">Layer_1</dimDescrp>
<maxVal Sync="TRUE">230.199997</maxVal>
<minVal Sync="TRUE">-9999.001953</minVal>
<bitsPerVal Sync="TRUE">32</bitsPerVal>
<valUnit>
<UOM type="length">
</UOM>
</valUnit>
</Band>
</covDim>
</ImgDesc>
</contInfo>
</metadata>
