View In:
ArcGIS JavaScript
ArcGIS Online Map Viewer
ArcGIS Earth
Service Description: This statewide 10 foot resolution Digital Elevation Model (DEM) was developed from 4 major New Jersey LiDAR collection projects undertaken between 2014 and 2019. Bare earth points from the original point clouds were re-sampled to create 10 foot resolution bare earth models for each individual project. These individual 10 foot resolution models were then merged to create this statewide DEM. The Statewide 10 ft resolution DEM, edition 20191202 was updated to incorporate new data collected in the spring of 2019 for 5 southern New Jersey counties: Cumberland, Salem, Cape May, Atlantic and Ocean.
Name: Elevation/NJ_DEM_21
Description: This statewide 10 foot resolution Digital Elevation Model (DEM) was developed from 4 major New Jersey LiDAR collection projects undertaken between 2014 and 2019. Bare earth points from the original point clouds were re-sampled to create 10 foot resolution bare earth models for each individual project. These individual 10 foot resolution models were then merged to create this statewide DEM. The Statewide 10 ft resolution DEM, edition 20191202 was updated to incorporate new data collected in the spring of 2019 for 5 southern New Jersey counties: Cumberland, Salem, Cape May, Atlantic and Ocean.
Single Fused Map Cache: false
Extent:
XMin: 189714.99999998952
YMin: 34284.999999999185
XMax: 657554.9999999895
YMax: 920214.9999999992
Spatial Reference: 103106
(6527)
VCSWkid(105703)
LatestVCSWkid(6360)
Initial Extent:
XMin: 189714.99999998952
YMin: 34284.999999999185
XMax: 657554.9999999895
YMax: 920214.9999999992
Spatial Reference: 103106
(6527)
VCSWkid(105703)
LatestVCSWkid(6360)
Full Extent:
XMin: 189714.99999998952
YMin: 34284.999999999185
XMax: 657554.9999999895
YMax: 920214.9999999992
Spatial Reference: 103106
(6527)
VCSWkid(105703)
LatestVCSWkid(6360)
Pixel Size X: 10.0
Pixel Size Y: 10.0
Band Count: 1
Pixel Type: F32
RasterFunction Infos: {"rasterFunctionInfos": [{
"name": "None",
"description": "",
"help": ""
}]}
Mensuration Capabilities: Basic
Inspection Capabilities:
Has Histograms: true
Has Colormap: false
Has Multi Dimensions : false
Rendering Rule:
Min Scale: 0
Max Scale: 0
Resampling: false
Copyright Text:
Service Data Type: esriImageServiceDataTypeGeneric
Min Values: -122.94731903076
Max Values: 1803.4840087891
Mean Values: 221.89601934166
Standard Deviation Values: 291.08908613966
Object ID Field:
Fields:
None
Default Mosaic Method: Center
Allowed Mosaic Methods:
SortField:
SortValue: null
Mosaic Operator: First
Default Compression Quality: 75
Default Resampling Method: Bilinear
Max Record Count: null
Max Image Height: 4100
Max Image Width: 15000
Max Download Image Count: null
Max Mosaic Image Count: null
Allow Raster Function: true
Allow Copy: true
Allow Analysis: true
Allow Compute TiePoints: false
Supports Statistics: false
Supports Advanced Queries: false
Use StandardizedQueries: true
Raster Type Infos:
Name: Raster Dataset
Description: Supports all ArcGIS Raster Datasets
Help:
Has Raster Attribute Table: false
Edit Fields Info: null
Ownership Based AccessControl For Rasters: null
Child Resources:
Info
Histograms
Statistics
Key Properties
Legend
Raster Function Infos
Supported Operations:
Export Image
Identify
Measure
Compute Histograms
Compute Statistics Histograms
Get Samples
Compute Class Statistics
Query Boundary
Compute Pixel Location
Compute Angles
Validate
Project