View In:
ArcGIS JavaScript
ArcGIS Online Map Viewer
ArcGIS Earth
Service Description: Product: Bare earth Digital Elevation Model (DEM) data. Geographic Extent: 6 counties, New Jersey, covering approximately 2,358 square miles. Dataset Description: Sussex, Passaic, Warren, Morris, Hunterdon, Somerset county, New Jersey 2018 Lidar project called for the Planning, Acquisition, processing and derivative products of lidar data to be collected at a nominal pulse spacing (NPS) of 0.7 meter. Project specifications are based on the U.S. Geological Survey National Geospatial Program Base Lidar Specification, Version 1.3. The data was developed based on a horizontal projection/datum of NAD83 (2011), State Plane New Jersey, feet and vertical datum of NAVD88 (GEOID12B), feet. Lidar data was delivered as processed Classified LASv1.4 files, formatted to 2,843 individual 5,000 ft x 5,000 ft tiles, as tiled intensity imagery, and as tiled bare-earth DEMs; all tiled to the same 5,000 ft x 5,000 ft schema. Ground Conditions: Lidar was collected in early 2017 and 2018, while no snow was on the ground and rivers were at or below normal levels. In order to post process the lidar data to meet task order specifications and meet ASPRS vertical accuracy guidelines, The Sanborn Map Company, Inc. established a total of 30 ground control points that were used to calibrate the lidar to known ground locations established throughout the project area. An additional 140 independent accuracy check points, 79 in Open Terrain/Bare-Earth and Urban landcovers (79 NVA points), 61 in Grass, Brush and Trees categories (61 VVA points), were used to assess the vertical accuracy of the data. These check points were not used to calibrate or post process the data.
Name: Elevation/NW_DEM
Description: Product: Bare earth Digital Elevation Model (DEM) data. Geographic Extent: 6 counties, New Jersey, covering approximately 2,358 square miles. Dataset Description: Sussex, Passaic, Warren, Morris, Hunterdon, Somerset county, New Jersey 2018 Lidar project called for the Planning, Acquisition, processing and derivative products of lidar data to be collected at a nominal pulse spacing (NPS) of 0.7 meter. Project specifications are based on the U.S. Geological Survey National Geospatial Program Base Lidar Specification, Version 1.3. The data was developed based on a horizontal projection/datum of NAD83 (2011), State Plane New Jersey, feet and vertical datum of NAVD88 (GEOID12B), feet. Lidar data was delivered as processed Classified LASv1.4 files, formatted to 2,843 individual 5,000 ft x 5,000 ft tiles, as tiled intensity imagery, and as tiled bare-earth DEMs; all tiled to the same 5,000 ft x 5,000 ft schema. Ground Conditions: Lidar was collected in early 2017 and 2018, while no snow was on the ground and rivers were at or below normal levels. In order to post process the lidar data to meet task order specifications and meet ASPRS vertical accuracy guidelines, The Sanborn Map Company, Inc. established a total of 30 ground control points that were used to calibrate the lidar to known ground locations established throughout the project area. An additional 140 independent accuracy check points, 79 in Open Terrain/Bare-Earth and Urban landcovers (79 NVA points), 61 in Grass, Brush and Trees categories (61 VVA points), were used to assess the vertical accuracy of the data. These check points were not used to calibrate or post process the data.
Single Fused Map Cache: false
Extent:
XMin: 296225.99125227577
YMin: 548191.9845033827
XMax: 605329.9912522756
YMax: 920205.9845033825
Spatial Reference: 103106
(6527)
VCSWkid(105703)
LatestVCSWkid(6360)
Initial Extent:
XMin: 296225.99125227577
YMin: 548191.9845033827
XMax: 605329.9912522756
YMax: 920205.9845033825
Spatial Reference: 103106
(6527)
VCSWkid(105703)
LatestVCSWkid(6360)
Full Extent:
XMin: 296225.99125227577
YMin: 548191.9845033827
XMax: 605329.9912522756
YMax: 920205.9845033825
Spatial Reference: 103106
(6527)
VCSWkid(105703)
LatestVCSWkid(6360)
Pixel Size X: 1.9999999999999993
Pixel Size Y: 1.9999999999999987
Band Count: 1
Pixel Type: F32
RasterFunction Infos: {"rasterFunctionInfos": [{
"name": "None",
"description": "",
"help": ""
}]}
Mensuration Capabilities: Basic
Inspection Capabilities:
Has Histograms: true
Has Colormap: false
Has Multi Dimensions : false
Rendering Rule:
Min Scale: 0
Max Scale: 0
Resampling: false
Copyright Text:
Service Data Type: esriImageServiceDataTypeGeneric
Min Values: -69.373001098633
Max Values: 1803.623046875
Mean Values: 559.24395459361
Standard Deviation Values: 319.29144975096
Object ID Field:
Fields:
None
Default Mosaic Method: Center
Allowed Mosaic Methods:
SortField:
SortValue: null
Mosaic Operator: First
Default Compression Quality: 75
Default Resampling Method: Bilinear
Max Record Count: null
Max Image Height: 4100
Max Image Width: 15000
Max Download Image Count: null
Max Mosaic Image Count: null
Allow Raster Function: true
Allow Copy: true
Allow Analysis: true
Allow Compute TiePoints: false
Supports Statistics: false
Supports Advanced Queries: false
Use StandardizedQueries: true
Raster Type Infos:
Name: Raster Dataset
Description: Supports all ArcGIS Raster Datasets
Help:
Has Raster Attribute Table: false
Edit Fields Info: null
Ownership Based AccessControl For Rasters: null
Child Resources:
Info
Histograms
Statistics
Key Properties
Legend
Raster Function Infos
Supported Operations:
Export Image
Identify
Measure
Compute Histograms
Compute Statistics Histograms
Get Samples
Compute Class Statistics
Query Boundary
Compute Pixel Location
Compute Angles
Validate
Project